BEGIN:VCALENDAR
VERSION:2.0
PRODID:-//AudioTheme 2.3.5
BEGIN:VEVENT
UID:urn:uuid:1688aecc-3f95-44ed-b848-306586cdb3a1
URL:https://andreasschickentanz.de/shows/cologne-contemporary-jazz-orchestra-plays-florian-ross/
DTSTART;TZID=GMT:20250223T000000
SUMMARY:Cologne Contemporary Jazz Orchestra plays Florian Ross
DESCRIPTION:Die Anfangszeit bitte der Presse entnehmen. An diesem Tag ist Bundestagswahl\,   um 18h (unsere übliche Anfangszeut im Loft) gibt es die ersten Ergebnisse.....
LOCATION:Loft\, Köln / Loft\, 
END:VEVENT
END:VCALENDAR
